BEGIN:VCALENDAR
VERSION:2.0
PRODID:icalendar-ruby
CALSCALE:GREGORIAN
METHOD:PUBLISH
BEGIN:VEVENT
DTSTAMP:20260420T143219Z
UID:6-373816@fbcblakely.com
DTSTART:20260913T143000Z
DTEND:20260913T153000Z
CLASS:PUBLIC
CREATED:20260420T081035
DESCRIPTION:
LAST-MODIFIED:20260420T081035
LOCATION:
SUMMARY:Sunday Morning Worship
URL;VALUE=URI:https://www.fbcblakely.com/events/sunday-morning-worship/2026
 -09-13
END:VEVENT
END:VCALENDAR
