BEGIN:VCALENDAR
VERSION:2.0
PRODID:icalendar-ruby
CALSCALE:GREGORIAN
METHOD:PUBLISH
BEGIN:VEVENT
DTSTAMP:20260420T155619Z
UID:6-374104@fbcblakely.com
DTSTART:20260920T143000Z
DTEND:20260920T153000Z
CLASS:PUBLIC
CREATED:20260420T104516
DESCRIPTION:
LAST-MODIFIED:20260420T104516
LOCATION:
SUMMARY:Sunday Morning Worship
URL;VALUE=URI:https://www.fbcblakely.com/events/sunday-morning-worship/2026
 -09-20
END:VEVENT
END:VCALENDAR
