BEGIN:VCALENDAR
VERSION:2.0
PRODID:icalendar-ruby
CALSCALE:GREGORIAN
METHOD:PUBLISH
BEGIN:VEVENT
DTSTAMP:20260420T174404Z
UID:6-374392@fbcblakely.com
DTSTART:20260927T143000Z
DTEND:20260927T153000Z
CLASS:PUBLIC
CREATED:20260420T131924
DESCRIPTION:
LAST-MODIFIED:20260420T131924
LOCATION:
SUMMARY:Sunday Morning Worship
URL;VALUE=URI:https://www.fbcblakely.com/events/sunday-morning-worship/2026
 -09-27
END:VEVENT
END:VCALENDAR
