BEGIN:VCALENDAR
VERSION:2.0
PRODID:icalendar-ruby
CALSCALE:GREGORIAN
METHOD:PUBLISH
BEGIN:VEVENT
DTSTAMP:20260421T003809Z
UID:6-374970@fbcblakely.com
DTSTART:20261025T143000Z
DTEND:20261025T153000Z
CLASS:PUBLIC
CREATED:20260420T183012
DESCRIPTION:
LAST-MODIFIED:20260420T183012
LOCATION:
SUMMARY:Sunday Morning Worship
URL;VALUE=URI:https://www.fbcblakely.com/events/sunday-morning-worship/2026
 -10-25
END:VEVENT
END:VCALENDAR
