BEGIN:VCALENDAR
VERSION:2.0
PRODID:icalendar-ruby
CALSCALE:GREGORIAN
METHOD:PUBLISH
BEGIN:VEVENT
DTSTAMP:20260421T021924Z
UID:6-375258@fbcblakely.com
DTSTART:20261101T153000Z
DTEND:20261101T163000Z
CLASS:PUBLIC
CREATED:20260420T210456
DESCRIPTION:
LAST-MODIFIED:20260420T210456
LOCATION:
SUMMARY:Sunday Morning Worship
URL;VALUE=URI:https://www.fbcblakely.com/events/sunday-morning-worship/2026
 -11-01
END:VEVENT
END:VCALENDAR
